BEGIN:VCALENDAR
VERSION:2.0
PRODID:-//Values &amp; Mission - St. John&#039;s Episcopal Preschool - ECPv6.15.18//NONSGML v1.0//EN
CALSCALE:GREGORIAN
METHOD:PUBLISH
X-ORIGINAL-URL:https://www.stjohnsdc.org
X-WR-CALDESC:Events for Values &amp; Mission - St. John&#039;s Episcopal Preschool
REFRESH-INTERVAL;VALUE=DURATION:PT1H
X-Robots-Tag:noindex
X-PUBLISHED-TTL:PT1H
BEGIN:VTIMEZONE
TZID:UTC
BEGIN:STANDARD
TZOFFSETFROM:+0000
TZOFFSETTO:+0000
TZNAME:UTC
DTSTART:20240101T000000
END:STANDARD
END:VTIMEZONE
BEGIN:VEVENT
DTSTART;VALUE=DATE:20250821
DTEND;VALUE=DATE:20250830
DTSTAMP:20260422T104647
CREATED:20250701T051059Z
LAST-MODIFIED:20250701T051059Z
UID:8501-1755734400-1756511999@www.stjohnsdc.org
SUMMARY:Staff Returns\, Staff Development Week\, Home Visits by Appointment
DESCRIPTION:
URL:https://www.stjohnsdc.org/event/staff-returns-staff-development-week-home-visits-by-appointment-2/
END:VEVENT
END:VCALENDAR