BEGIN:VCALENDAR
VERSION:2.0
PRODID:-//Values &amp; Mission - St. John&#039;s Episcopal Preschool - ECPv6.15.18//NONSGML v1.0//EN
CALSCALE:GREGORIAN
METHOD:PUBLISH
X-WR-CALNAME:Values &amp; Mission - St. John&#039;s Episcopal Preschool
X-ORIGINAL-URL:https://www.stjohnsdc.org
X-WR-CALDESC:Events for Values &amp; Mission - St. John&#039;s Episcopal Preschool
REFRESH-INTERVAL;VALUE=DURATION:PT1H
X-Robots-Tag:noindex
X-PUBLISHED-TTL:PT1H
BEGIN:VTIMEZONE
TZID:UTC
BEGIN:STANDARD
TZOFFSETFROM:+0000
TZOFFSETTO:+0000
TZNAME:UTC
DTSTART:20230101T000000
END:STANDARD
END:VTIMEZONE
BEGIN:VEVENT
DTSTART;VALUE=DATE:20240424
DTEND;VALUE=DATE:20240425
DTSTAMP:20260420T083350
CREATED:20230704T094450Z
LAST-MODIFIED:20230704T094450Z
UID:7572-1713916800-1714003199@www.stjohnsdc.org
SUMMARY:ECES Event
DESCRIPTION:
URL:https://www.stjohnsdc.org/event/eces-event-5/
END:VEVENT
BEGIN:VEVENT
DTSTART;VALUE=DATE:20240419
DTEND;VALUE=DATE:20240420
DTSTAMP:20260420T083350
CREATED:20230704T094431Z
LAST-MODIFIED:20230704T094431Z
UID:7571-1713484800-1713571199@www.stjohnsdc.org
SUMMARY:No School\, Spring Holiday
DESCRIPTION:
URL:https://www.stjohnsdc.org/event/no-school-spring-holiday-3/
END:VEVENT
BEGIN:VEVENT
DTSTART;TZID=UTC:20240416T090000
DTEND;TZID=UTC:20240416T170000
DTSTAMP:20260420T083350
CREATED:20230704T094032Z
LAST-MODIFIED:20230704T094032Z
UID:7566-1713258000-1713286800@www.stjohnsdc.org
SUMMARY:April Sing-Along dates\, 9:15am
DESCRIPTION:
URL:https://www.stjohnsdc.org/event/april-sing-along-dates-915am-5/
END:VEVENT
BEGIN:VEVENT
DTSTART;VALUE=DATE:20240416
DTEND;VALUE=DATE:20240417
DTSTAMP:20260420T083350
CREATED:20230704T094318Z
LAST-MODIFIED:20230704T094318Z
UID:7570-1713225600-1713311999@www.stjohnsdc.org
SUMMARY:Board of Directors Meeting (pm)
DESCRIPTION:
URL:https://www.stjohnsdc.org/event/board-of-directors-meeting-pm-4/
END:VEVENT
BEGIN:VEVENT
DTSTART;VALUE=DATE:20240412
DTEND;VALUE=DATE:20240413
DTSTAMP:20260420T083350
CREATED:20230704T094209Z
LAST-MODIFIED:20230704T094209Z
UID:7569-1712880000-1712966399@www.stjohnsdc.org
SUMMARY:All-School Fundraiser
DESCRIPTION:
URL:https://www.stjohnsdc.org/event/all-school-fundraiser-3/
END:VEVENT
BEGIN:VEVENT
DTSTART;TZID=UTC:20240410T090000
DTEND;TZID=UTC:20240410T170000
DTSTAMP:20260420T083350
CREATED:20230704T094147Z
LAST-MODIFIED:20230704T094147Z
UID:7568-1712739600-1712768400@www.stjohnsdc.org
SUMMARY:All-School Chapel\, 9:15am
DESCRIPTION:
URL:https://www.stjohnsdc.org/event/all-school-chapel-915am-28/
END:VEVENT
BEGIN:VEVENT
DTSTART;VALUE=DATE:20240409
DTEND;VALUE=DATE:20240410
DTSTAMP:20260420T083350
CREATED:20230704T094127Z
LAST-MODIFIED:20230704T094127Z
UID:7567-1712620800-1712707199@www.stjohnsdc.org
SUMMARY:PTC Meeting (am)
DESCRIPTION:
URL:https://www.stjohnsdc.org/event/ptc-meeting-am-5/
END:VEVENT
BEGIN:VEVENT
DTSTART;TZID=UTC:20240405T090000
DTEND;TZID=UTC:20240405T170000
DTSTAMP:20260420T083350
CREATED:20230704T094034Z
LAST-MODIFIED:20230704T094034Z
UID:7565-1712307600-1712336400@www.stjohnsdc.org
SUMMARY:April Sing-Along dates\, 9:15am
DESCRIPTION:
URL:https://www.stjohnsdc.org/event/april-sing-along-dates-915am-6/
END:VEVENT
BEGIN:VEVENT
DTSTART;VALUE=DATE:20240401
DTEND;VALUE=DATE:20240402
DTSTAMP:20260420T083350
CREATED:20230704T093930Z
LAST-MODIFIED:20230704T093930Z
UID:7564-1711929600-1712015999@www.stjohnsdc.org
SUMMARY:School Resumes
DESCRIPTION:
URL:https://www.stjohnsdc.org/event/school-resumes-19/
END:VEVENT
BEGIN:VEVENT
DTSTART;VALUE=DATE:20240325
DTEND;VALUE=DATE:20240402
DTSTAMP:20260420T083350
CREATED:20230704T093130Z
LAST-MODIFIED:20230704T093130Z
UID:7556-1711324800-1712015999@www.stjohnsdc.org
SUMMARY:No School\, Spring Break
DESCRIPTION:
URL:https://www.stjohnsdc.org/event/no-school-spring-break-5/
END:VEVENT
BEGIN:VEVENT
DTSTART;VALUE=DATE:20240322
DTEND;VALUE=DATE:20240323
DTSTAMP:20260420T083350
CREATED:20230704T092956Z
LAST-MODIFIED:20230704T092956Z
UID:7555-1711065600-1711151999@www.stjohnsdc.org
SUMMARY:No School\, Parent Teacher Conferences
DESCRIPTION:
URL:https://www.stjohnsdc.org/event/no-school-parent-teacher-conferences-13/
END:VEVENT
BEGIN:VEVENT
DTSTART;VALUE=DATE:20240321
DTEND;VALUE=DATE:20240322
DTSTAMP:20260420T083350
CREATED:20230704T092941Z
LAST-MODIFIED:20230704T092941Z
UID:7554-1710979200-1711065599@www.stjohnsdc.org
SUMMARY:No School\, Parent Teacher Conferences
DESCRIPTION:
URL:https://www.stjohnsdc.org/event/no-school-parent-teacher-conferences-12/
END:VEVENT
BEGIN:VEVENT
DTSTART;TZID=UTC:20240319T090000
DTEND;TZID=UTC:20240319T170000
DTSTAMP:20260420T083350
CREATED:20230704T092919Z
LAST-MODIFIED:20230704T092919Z
UID:7553-1710838800-1710867600@www.stjohnsdc.org
SUMMARY:All-School Chapel\, 9:15am
DESCRIPTION:
URL:https://www.stjohnsdc.org/event/all-school-chapel-915am-27/
END:VEVENT
BEGIN:VEVENT
DTSTART;TZID=UTC:20240315T090000
DTEND;TZID=UTC:20240315T170000
DTSTAMP:20260420T083350
CREATED:20230704T092814Z
LAST-MODIFIED:20230704T092814Z
UID:7551-1710493200-1710522000@www.stjohnsdc.org
SUMMARY:March Sing-Along dates\, 9:15am
DESCRIPTION:
URL:https://www.stjohnsdc.org/event/march-sing-along-dates-915am-6/
END:VEVENT
BEGIN:VEVENT
DTSTART;VALUE=DATE:20240311
DTEND;VALUE=DATE:20240312
DTSTAMP:20260420T083350
CREATED:20230704T092836Z
LAST-MODIFIED:20230704T092836Z
UID:7552-1710115200-1710201599@www.stjohnsdc.org
SUMMARY:No School\, Staff Development Day
DESCRIPTION:
URL:https://www.stjohnsdc.org/event/no-school-staff-development-day-11/
END:VEVENT
BEGIN:VEVENT
DTSTART;VALUE=DATE:20240310
DTEND;VALUE=DATE:20240311
DTSTAMP:20260420T083350
CREATED:20240702T105434Z
LAST-MODIFIED:20240702T105434Z
UID:8330-1710028800-1710115199@www.stjohnsdc.org
SUMMARY:Prospective Parent Tours
DESCRIPTION:
URL:https://www.stjohnsdc.org/event/prospective-parent-tours-17/
END:VEVENT
BEGIN:VEVENT
DTSTART;TZID=UTC:20240305T090000
DTEND;TZID=UTC:20240305T170000
DTSTAMP:20260420T083350
CREATED:20230704T092756Z
LAST-MODIFIED:20230704T092756Z
UID:7550-1709629200-1709658000@www.stjohnsdc.org
SUMMARY:March Sing-Along dates\, 9:15am
DESCRIPTION:
URL:https://www.stjohnsdc.org/event/march-sing-along-dates-915am-5/
END:VEVENT
BEGIN:VEVENT
DTSTART;TZID=UTC:20240223T090000
DTEND;TZID=UTC:20240223T170000
DTSTAMP:20260420T083350
CREATED:20230704T090628Z
LAST-MODIFIED:20230704T090628Z
UID:7535-1708678800-1708707600@www.stjohnsdc.org
SUMMARY:February Sing-Along dates\, 9:15am
DESCRIPTION:
URL:https://www.stjohnsdc.org/event/february-sing-along-dates-915am-6/
END:VEVENT
BEGIN:VEVENT
DTSTART;VALUE=DATE:20240222
DTEND;VALUE=DATE:20240223
DTSTAMP:20260420T083350
CREATED:20230704T091012Z
LAST-MODIFIED:20230704T091012Z
UID:7540-1708560000-1708646399@www.stjohnsdc.org
SUMMARY:Evening PTC Meeting followed by discussion
DESCRIPTION:
URL:https://www.stjohnsdc.org/event/evening-ptc-meeting-followed-by-discussion-3/
END:VEVENT
BEGIN:VEVENT
DTSTART;VALUE=DATE:20240219
DTEND;VALUE=DATE:20240220
DTSTAMP:20260420T083350
CREATED:20230704T090952Z
LAST-MODIFIED:20230704T090952Z
UID:7541-1708300800-1708387199@www.stjohnsdc.org
SUMMARY:No School\, President’s Day
DESCRIPTION:
URL:https://www.stjohnsdc.org/event/no-school-presidents-day-5/
END:VEVENT
BEGIN:VEVENT
DTSTART;VALUE=DATE:20240215
DTEND;VALUE=DATE:20240216
DTSTAMP:20260420T083350
CREATED:20230704T090844Z
LAST-MODIFIED:20230704T090844Z
UID:7539-1707955200-1708041599@www.stjohnsdc.org
SUMMARY:ECES Event
DESCRIPTION:
URL:https://www.stjohnsdc.org/event/eces-event-4/
END:VEVENT
BEGIN:VEVENT
DTSTART;TZID=UTC:20240214T090000
DTEND;TZID=UTC:20240214T170000
DTSTAMP:20260420T083350
CREATED:20230704T090830Z
LAST-MODIFIED:20230704T090830Z
UID:7538-1707901200-1707930000@www.stjohnsdc.org
SUMMARY:All-School Chapel\, 9:15am
DESCRIPTION:
URL:https://www.stjohnsdc.org/event/all-school-chapel-915am-26/
END:VEVENT
BEGIN:VEVENT
DTSTART;TZID=UTC:20240207T160000
DTEND;TZID=UTC:20240207T180000
DTSTAMP:20260420T083350
CREATED:20230704T090718Z
LAST-MODIFIED:20230704T090718Z
UID:7536-1707321600-1707328800@www.stjohnsdc.org
SUMMARY:Alumni Workshop\, 4:00- 6:00pm
DESCRIPTION:
URL:https://www.stjohnsdc.org/event/alumni-workshop-400-600pm/
END:VEVENT
BEGIN:VEVENT
DTSTART;TZID=UTC:20240206T090000
DTEND;TZID=UTC:20240206T170000
DTSTAMP:20260420T083350
CREATED:20230704T090600Z
LAST-MODIFIED:20230704T090600Z
UID:7537-1707210000-1707238800@www.stjohnsdc.org
SUMMARY:February Sing-Along dates\, 9:15am
DESCRIPTION:
URL:https://www.stjohnsdc.org/event/february-sing-along-dates-915am-5/
END:VEVENT
BEGIN:VEVENT
DTSTART;TZID=UTC:20240202T080000
DTEND;TZID=UTC:20240202T170000
DTSTAMP:20260420T083350
CREATED:20230704T090446Z
LAST-MODIFIED:20230704T090446Z
UID:7534-1706860800-1706893200@www.stjohnsdc.org
SUMMARY:No School\, Admissions Playdates\, 8:00AM
DESCRIPTION:
URL:https://www.stjohnsdc.org/event/no-school-admissions-playdates-800am-2/
END:VEVENT
BEGIN:VEVENT
DTSTART;TZID=UTC:20240131T063000
DTEND;TZID=UTC:20240131T203000
DTSTAMP:20260420T083350
CREATED:20230704T085615Z
LAST-MODIFIED:20230704T085615Z
UID:7526-1706682600-1706733000@www.stjohnsdc.org
SUMMARY:All-School Potluck 6:30PM
DESCRIPTION:
URL:https://www.stjohnsdc.org/event/all-school-potluck-630pm-2/
END:VEVENT
BEGIN:VEVENT
DTSTART;VALUE=DATE:20240131
DTEND;VALUE=DATE:20240201
DTSTAMP:20260420T083350
CREATED:20230704T085652Z
LAST-MODIFIED:20230704T085652Z
UID:7525-1706659200-1706745599@www.stjohnsdc.org
SUMMARY:Admissions Deadline
DESCRIPTION:
URL:https://www.stjohnsdc.org/event/admissions-deadline-2/
END:VEVENT
BEGIN:VEVENT
DTSTART;TZID=UTC:20240123T090000
DTEND;TZID=UTC:20240123T170000
DTSTAMP:20260420T083350
CREATED:20230704T084554Z
LAST-MODIFIED:20230704T084554Z
UID:7510-1706000400-1706029200@www.stjohnsdc.org
SUMMARY:January Sing-Along dates\, 9:15am
DESCRIPTION:
URL:https://www.stjohnsdc.org/event/january-sing-along-dates-915am-6/
END:VEVENT
BEGIN:VEVENT
DTSTART;VALUE=DATE:20240122
DTEND;VALUE=DATE:20240127
DTSTAMP:20260420T083350
CREATED:20230704T085456Z
LAST-MODIFIED:20230704T085456Z
UID:7524-1705881600-1706313599@www.stjohnsdc.org
SUMMARY:Interim Phone Calls
DESCRIPTION:
URL:https://www.stjohnsdc.org/event/interim-phone-calls-6/
END:VEVENT
BEGIN:VEVENT
DTSTART;VALUE=DATE:20240119
DTEND;VALUE=DATE:20240120
DTSTAMP:20260420T083350
CREATED:20230704T085415Z
LAST-MODIFIED:20230704T085415Z
UID:7523-1705622400-1705708799@www.stjohnsdc.org
SUMMARY:Prospective Parent Tours
DESCRIPTION:
URL:https://www.stjohnsdc.org/event/prospective-parent-tours-16/
END:VEVENT
END:VCALENDAR